BEGIN:VCALENDAR
VERSION:2.0
PRODID:-//Eventin//Event Calendar//EN
CALSCALE:GREGORIAN
METHOD:PUBLISH
BEGIN:VEVENT
UID:fbc8e201060272b4fa7afbaf4ebf2408@bavdhan.in
SUMMARY:Yogic Food Program Designed by Sadhguru-23rd April 2023- SH
DESCRIPTION:Yogic Food Program Designed by Sadhguru\n\n\n\nA Program Design
 ed By Sadhguru and offered live by Isha Hatha Yoga Teacher - Yogini Shlloka
 .\n\n\n\n\nBenefits:\n\n\n\n\nLearn ancient simple diet secrets used by Yog
 is. \n\n\n\nTo live a long healthy joyful life.\n\n\n\nTake charge of your
  everyday diet.\n\n\n\n\nWhat you will get:  \n\n\n\n\nan 3.5-hour live s
 ession on Yogic Food Program Designed by Sadhguru by Yogini Shlloka. \n\n\
 n\nPresentation summary of the program learnings.\n\n\n\nAn E-book containi
 ng raw food Yogic recipes.\n\n\n\n\n\n\nThe Schedule of the program are as 
 follows\;\n\n\n\nDate: Starting 23rd April 2023\n\n\n\nDay: Sunday\n\n\n\n\
 n\nSession Timings:\n\n\n\n   IST - 05:30 PM - 09:00 PM\n\n\n\n   GMT- 
 12:00 PM -03:30 PM\n\n\n\n   Europe-01:00 PM - 04:30 PM\n\n\n\n   PT - 
 04:00 AM - 07:30 AM\n\n\n\n   CT -06:00 AM - 09:30 AM \n\n\n\n   ET - 
 07:00 Am - 10:30 AM
LOCATION:Online
DTSTAMP:20260424T100250Z
DTSTART:20230423T120000Z
DTEND:20260424T153000Z
END:VEVENT
END:VCALENDAR
