BEGIN:VCALENDAR
VERSION:2.0
PRODID:-//Eventin//Event Calendar//EN
CALSCALE:GREGORIAN
METHOD:PUBLISH
BEGIN:VEVENT
UID:38e969efb3eecad866b7b8bb1e42f7f5@bavdhan.in
SUMMARY:Pune Virtual Marathon
DESCRIPTION:Pune Virtual Marathon\n\n\n\n\n\nRun / Walk / Jog / Cycle at yo
 ur own Place\, Gym\, Treadmill or any other Marathon Event for Pune Virtual
  Marathon.\n\n\n\nRun Categories - 5KM / 10KM / 21KM / 42KM\n\n\n\nOnce you
 r Pune Virtual Marathon Challenge is done your Medal is sent by Courier.\n\
 n\n\nRun / Walk or Cycle at your own Place and share screenshot of Timing a
 pp on WhatsApp number 8097712656.\n\n\n\nYou can use any timing app from Go
 ogle playstore or Mobile Health app or smartwatch app.\n\n\n\nFor queries a
 bout this Pune Virtual Marathon please WhatsApp on 8097712656.
LOCATION:Online
DTSTAMP:20260424T103812Z
DTSTART:20230422T233000Z
DTEND:20260424T103812Z
END:VEVENT
END:VCALENDAR
